BEGIN:VCALENDAR
VERSION:2.0
PRODID:-//ChamberMaster//Event Calendar 2.0//EN
METHOD:PUBLISH
X-PUBLISHED-TTL:P3D
REFRESH-INTERVAL:P3D
CALSCALE:GREGORIAN
BEGIN:VEVENT
DTSTART:20260513T160000Z
DTEND:20260513T170000Z
X-MICROSOFT-CDO-ALLDAYEVENT:FALSE
SUMMARY:Lunch & Learn - LeaderAid
DESCRIPTION:Discover the future of leadership at this dynamic Leadership Training & Coaching Program\, where innovation meets impact. Led by Dr. Matthew Sowcik\, this interactive workshop explores how AI-powered tools can transform leadership development into a daily\, practical experience. Attendees will gain access to a comprehensive platform featuring videos\, articles\, and real-time coaching designed to strengthen communication\, enhance emotional intelligence\, and drive mission-focused results. Perfect for organizations seeking scalable\, effective leadership solutions without added staff burden.\n\n\n\nDr. Matthew Sowcik is an internationally recognized leadership educator\, consultant\, and author with over two decades of experience developing leaders. He serves as an Associate Professor of Leadership Development\, in the Department of Agricultural Education and Communication (AEC)\, at the University of Florida.
X-ALT-DESC;FMTTYPE=text/html:<p dir="ltr" helvetica="" line-height:="" margin-bottom:="" margin-top:="" segoe="" style="color: rgb(36\, 36\, 36)\;" ui="" web="" west=""><span style="caret-color: rgb(0\, 0\, 0)\; color: rgb(0\, 0\, 0)\; font-size: medium\;">Discover the future of leadership at this dynamic&nbsp\;</span><strong data-end="169" data-start="127" style="caret-color: rgb(0\, 0\, 0)\; color: rgb(0\, 0\, 0)\;">Leadership Training &amp\; Coaching Program</strong><span style="caret-color: rgb(0\, 0\, 0)\; color: rgb(0\, 0\, 0)\; font-size: medium\;">\, where innovation meets impact. Led by Dr. Matthew Sowcik\, this interactive workshop explores how AI-powered tools can transform leadership development into a daily\, practical experience. Attendees will gain access to a comprehensive platform featuring videos\, articles\, and real-time coaching designed to strengthen communication\, enhance emotional intelligence\, and drive mission-focused results. Perfect for organizations seeking scalable\, effective leadership solutions without added staff burden.</span><br />\n<br />\n<span font-variant-ligatures:="" ibm="" plex="" style="font-size: 16px\; color: rgb(52\, 55\, 65)\; font-family: ">Dr. Matthew Sowcik is an internationally recognized leadership educator\, consultant\, and author with over two decades of experience developing leaders. He serves as an Associate Professor of Leadership Development\, in the Department of Agricultural Education and Communication (AEC)\, at the University of Florida.&nbsp\;</span></p>\n\n<p dir="ltr" font-size:="" helvetica="" line-height:="" margin-bottom:="" margin-top:="" segoe="" style="color: rgb(36\, 36\, 36)\; font-family: " ui="" web="" west="">&nbsp\;</p>\n
LOCATION:LifeSouth 1221 NW 13th Street Gainesville\, FL 32601
UID:e.1555.39521
SEQUENCE:3
DTSTAMP:20260422T052006Z
URL:http://business.gainesvillechamber.com/events/details/lunch-learn-leaderaid-39521
END:VEVENT

END:VCALENDAR
