BEGIN:VCALENDAR
VERSION:2.0
PRODID:-//ChamberMaster//Event Calendar 2.0//EN
METHOD:PUBLISH
X-PUBLISHED-TTL:P3D
REFRESH-INTERVAL:P3D
CALSCALE:GREGORIAN
BEGIN:VEVENT
DTSTART:20260424T150000Z
DTEND:20260424T160000Z
X-MICROSOFT-CDO-ALLDAYEVENT:FALSE
SUMMARY:Media Day event for HCA Florida Gainesville Hospital
DESCRIPTION:A ribbon cutting at Media Day event for HCA Florida Gainesville Hospital
X-ALT-DESC;FMTTYPE=text/html:A<span style="font-size: 16px\; caret-color: rgb(0\, 0\, 0)\; color: rgb(0\, 0\, 0)\; font-family: &quot\;Mark for HCA&quot\;\;"> ribbon cutting at Media Day event for HCA Florida Gainesville Hospital</span>
LOCATION:
UID:e.1555.39519
SEQUENCE:3
DTSTAMP:20260420T232733Z
URL:http://business.gainesvillechamber.com/events/details/media-day-event-for-hca-florida-gainesville-hospital-39519
END:VEVENT

END:VCALENDAR
